Workbook

Sheet materia
B2: clase 2 octubre 2019
B4: general tabla de notas
B5: y posteriormente una c arta al apodetrado
B6: informando notas del pupilo
B8: redondear
B9: si
B10: concatenar
B11: texto
B12: formulas basicas
B13: tabla

Sheet notas
A1: correlativo | B1: nombre alumno | C1: certamen 1 | D1: certamen 2 | E1: prom ejercicio | F1: nota ant final | G1: nota final | H1: oservacion | I1: observacion 2
A2: 1 | B2: ana | C2: =RANDBETWEEN(10,70)/10 -> 3.8 | D2: =RANDBETWEEN(10,70)/10 -> 7 | E2: =RANDBETWEEN(10,70)/10 -> 3.5 | F2: =C2*20%+D2*20%+E2*40% -> 3.56 | G2: =ROUND(F2,1) -> 3.6 | H2: =IF(tablanotas[[#This Row],[nota ant final]]<4,"reprobo","aprobo") -> reprobo | I2: =CONCATENATE(tablanotas[[#This Row],[nombre alumno]]," ",tablanotas[[#This Row],[oservacion ]], "con nota final",tablanotas[[#This Row],[nota final]]) -> ana reprobocon nota final3,6
A3: 3 | B3: lucho | C3: =RANDBETWEEN(10,70)/10 -> 2.4 | D3: =RANDBETWEEN(10,70)/10 -> 1.3 | E3: =RANDBETWEEN(10,70)/10 -> 2.3 | F3: =C3*20%+D3*20%+E3*40% -> 1.66 | G3: =ROUND(F3,1) -> 1.7 | H3: =IF(tablanotas[[#This Row],[nota ant final]]<4,"reprobo","aprobo") -> reprobo | I3: =CONCATENATE(tablanotas[[#This Row],[nombre alumno]]," ",tablanotas[[#This Row],[oservacion ]],"con nota final",tablanotas[[#This Row],[nota final]]) -> lucho reprobocon nota final1,7
A4: 5 | B4: pedro | C4: =RANDBETWEEN(10,70)/10 -> 4.9 | D4: =RANDBETWEEN(10,70)/10 -> 3.5 | E4: =RANDBETWEEN(10,70)/10 -> 4.5 | F4: =C4*20%+D4*20%+E4*40% -> 3.48 | G4: =ROUND(F4,1) -> 3.5 | H4: =IF(tablanotas[[#This Row],[nota ant final]]<4,"reprobo","aprobo") -> reprobo | I4: =CONCATENATE(tablanotas[[#This Row],[nombre alumno]]," ",tablanotas[[#This Row],[oservacion ]],"con nota final",tablanotas[[#This Row],[nota final]]) -> pedro reprobocon nota final3,5
A5: 7 | B5: magdalena | C5: =RANDBETWEEN(10,70)/10 -> 3.4 | D5: =RANDBETWEEN(10,70)/10 -> 1 | E5: =RANDBETWEEN(10,70)/10 -> 2.1 | F5: =C5*20%+D5*20%+E5*40% -> 1.72 | G5: =ROUND(F5,1) -> 1.7 | H5: =IF(tablanotas[[#This Row],[nota ant final]]<4,"reprobo","aprobo") -> reprobo | I5: =CONCATENATE(tablanotas[[#This Row],[nombre alumno]]," ",tablanotas[[#This Row],[oservacion ]],"con nota final",tablanotas[[#This Row],[nota final]]) -> magdalena reprobocon nota final1,7
A6: 9 | B6: agustin | C6: =RANDBETWEEN(10,70)/10 -> 6.4 | D6: =RANDBETWEEN(10,70)/10 -> 6 | E6: =RANDBETWEEN(10,70)/10 -> 6.5 | F6: =C6*20%+D6*20%+E6*40% -> 5.08 | G6: =ROUND(F6,1) -> 5.1 | H6: =IF(tablanotas[[#This Row],[nota ant final]]<4,"reprobo","aprobo") -> aprobo | I6: =CONCATENATE(tablanotas[[#This Row],[nombre alumno]]," ",tablanotas[[#This Row],[oservacion ]],"con nota final",tablanotas[[#This Row],[nota final]]) -> agustin aprobocon nota final5,1
A7: 11 | B7: joaquina | C7: =RANDBETWEEN(10,70)/10 -> 2.2 | D7: =RANDBETWEEN(10,70)/10 -> 4.6 | E7: =RANDBETWEEN(10,70)/10 -> 1.2 | F7: =C7*20%+D7*20%+E7*40% -> 1.84 | G7: =ROUND(F7,1) -> 1.8 | H7: =IF(tablanotas[[#This Row],[nota ant final]]<4,"reprobo","aprobo") -> reprobo | I7: =CONCATENATE(tablanotas[[#This Row],[nombre alumno]]," ",tablanotas[[#This Row],[oservacion ]],"con nota final",tablanotas[[#This Row],[nota final]]) -> joaquina reprobocon nota final1,8

Sheet Hoja1
A1: ejecutivos | B1: venta | C1: comision | D1: com.usando funcion texto
A2: =notas!B2 -> ana | B2: =RANDBETWEEN(1000000,10000000) -> 8682567 | C2: =ROUND(B2*$C$9,0) -> 2865247 | D2: =TEXT(C2,"#.#") -> 2.865.247
A3: =notas!B3 -> lucho | B3: =RANDBETWEEN(1000000,10000000) -> 4959551 | C3: =ROUND(B3*$C$9,0) -> 1636652 | D3: =TEXT(C3,"#.#") -> 1.636.652
A4: =notas!B4 -> pedro | B4: =RANDBETWEEN(1000000,10000000) -> 2193881 | C4: =ROUND(B4*$C$9,0) -> 723981 | D4: =TEXT(C4,"#.#") -> 723.981
A5: =notas!B5 -> magdalena | B5: =RANDBETWEEN(1000000,10000000) -> 1570078 | C5: =ROUND(B5*$C$9,0) -> 518126 | D5: =TEXT(C5,"#.#") -> 518.126
A6: =notas!B6 -> agustin | B6: =RANDBETWEEN(1000000,10000000) -> 7643565 | C6: =ROUND(B6*$C$9,0) -> 2522376 | D6: =TEXT(C6,"#.#") -> 2.522.376
A7: =notas!B7 -> joaquina | B7: =RANDBETWEEN(1000000,10000000) -> 3055064 | C7: =ROUND(B7*$C$9,0) -> 1008171 | D7: =TEXT(C7,"#.#") -> 1.008.171
B9: comision | C9: 0.33
