Workbook

Sheet remuneraciones
A2: rut | B2: Apellido | C2: Nombre | D2: Cod Cargo | E2: Horas Extras | F2: Cod AFP | H2: cod Cargo | I2: Cargo | J2: Sueldo Base | L2: cod afp | M2: afp | N2: % dcto
A3: 19.275.846-0 | B3: Contreras | C3: Alex | D3: 10 | E3: 8 | F3: 21 | H3: 10 | I3: Gerente | J3: 952000 | L3: 21 | M3: capital | N3: 0.1297
A4: 57.285.785-1 | B4: Cid | C4: Alvaro | D4: 11 | E4: 8 | F4: 21 | H4: 11 | I4: Vendedor | J4: 450000 | L4: 22 | M4: cuprum | N4: 0.1297
A5: 87.215.281-4 | B5: Bustamante | C5: Andrés | D5: 11 | F5: 22 | H5: 12 | I5: Cajero | J5: 650000 | L5: 23 | M5: habitat | N5: 0.128
A6: 63.486.692-5 | B6: Chandia | C6: Carlos | D6: 12 | F6: 26 | H6: 13 | I6: Cocinero | J6: 760000 | L6: 24 | M6: plan vital | N6: 0.1269
A7: 22.134.706-K | B7: Flores | C7: Gloria | D7: 14 | E7: 7 | F7: 25 | H7: 14 | I7: Auxiliar | J7: 540000 | L7: 25 | M7: provida | N7: 0.1298
A8: 59.302.632-9 | B8: Muñoz | C8: Carolina | D8: 12 | E8: 4 | F8: 25 | L8: 26 | M8: modelo | N8: 0.123
A9: 32.135.432-6 | B9: Maldonado | C9: Ana | D9: 13 | F9: 25
A10: 11.865.971-7 | B10: Gonzalez | C10: Elsa | D10: 14 | F10: 25
A11: 35.869.682-K | B11: Sepulveda | C11: Maria | D11: 13 | E11: 14 | F11: 23
A12: 19.484.824-0 | B12: Contreras | C12: Mariela | D12: 10 | F12: 21
A13: 27.310.553-9 | B13: Cid | C13: Ivonne | D13: 11 | E13: 23 | F13: 25
A14: 65.804.832-3 | B14: Bustamante | C14: Marcela | D14: 11 | E14: 12 | F14: 23
A15: 20.461.405-5 | B15: Chandia | C15: Carmen | D15: 12 | F15: 24
A16: 17.293.483-8 | B16: Flores | C16: Gumercinda | D16: 12 | F16: 25
A17: 38.314.461-7 | B17: Muñoz | C17: Patricio | D17: 13 | E17: 12 | F17: 26
A18: 39.854.156-2 | B18: Maldonado | C18: Alberto | D18: 13 | F18: 25
A19: 66.531.183-3 | B19: Gonzalez | C19: Segismundo | D19: 14 | E19: 12 | F19: 21
A20: 10.710.383-5 | B20: Sepulveda | C20: Damian | D20: 14 | E20: 12 | F20: 25

Sheet Hoja2
A3: Etiquetas de fila | B3: Suma de sueldo liquido
A4: capital | B4: 2630946
A5: cuprum | B5: 391635
A6: habitat | B6: 1157107
A7: modelo | B7: 1294890
A8: plan vital | B8: 567515
A9: provida | B9: 4402549
A10: Total general | B10: 10444642

Sheet librorem
A1: rut | B1: Apellido | C1: Nombre | D1: nombre competo | E1: Cod Cargo | F1: Horas Extras | G1: Cod AFP | H1: sueldo base | I1: monto horas extrra | J1: descuento afp | K1: descvuento salud | L1: sueldo liquido | M1: afp
A2: =remuneraciones!A3 -> 19.275.846-0 | B2: =remuneraciones!B3 -> Contreras | C2: =remuneraciones!C3 -> Alex | D2: =CONCATENATE(tablalibrorem[[#This Row],[Apellido]],", ",tablalibrorem[[#This Row],[Nombre]]) -> Contreras, Alex | E2: =remuneraciones!D3 -> 10 | F2: =remuneraciones!E3 -> 8 | G2: =remuneraciones!F3 -> 21 | H2: =VLOOKUP(tablalibrorem[[#This Row],[Cod Cargo]],tablacargo[],3) -> 952000 | I2: =ROUND(tablalibrorem[[#This Row],[sueldo base]]*0.00729165*tablalibrorem[[#This Row],[Horas Extras]],0) -> 55533 | J2: =ROUND((VLOOKUP(tablalibrorem[[#This Row],[Cod AFP]],tablaafp[],3)*(tablalibrorem[[#This Row],[sueldo base]]+tablalibrorem[[#This Row],[monto horas extrra]])),0) -> 130677 | K2: =ROUND(tablalibrorem[[#This Row],[sueldo base]]+tablalibrorem[[#This Row],[monto horas extrra]]*7%,0) -> 955887 | L2: =tablalibrorem[[#This Row],[sueldo base]]+tablalibrorem[[#This Row],[monto horas extrra]]-tablalibrorem[[#This Row],[descuento afp]] -> 876856 | M2: =VLOOKUP(tablalibrorem[[#This Row],[Cod AFP]],tablaafp[],2,FALSE) -> capital
A3: =remuneraciones!A4 -> 57.285.785-1 | B3: =remuneraciones!B4 -> Cid | C3: =remuneraciones!C4 -> Alvaro | D3: =CONCATENATE(tablalibrorem[[#This Row],[Apellido]],", ",tablalibrorem[[#This Row],[Nombre]]) -> Cid, Alvaro | E3: =remuneraciones!D4 -> 11 | F3: =remuneraciones!E4 -> 8 | G3: =remuneraciones!F4 -> 21 | H3: =VLOOKUP(tablalibrorem[[#This Row],[Cod Cargo]],tablacargo[],3) -> 450000 | I3: =ROUND(tablalibrorem[[#This Row],[sueldo base]]*0.00729165*tablalibrorem[[#This Row],[Horas Extras]],0) -> 26250 | J3: =ROUND((VLOOKUP(tablalibrorem[[#This Row],[Cod AFP]],tablaafp[],3)*(tablalibrorem[[#This Row],[sueldo base]]+tablalibrorem[[#This Row],[monto horas extrra]])),0) -> 61770 | K3: =ROUND(tablalibrorem[[#This Row],[sueldo base]]+tablalibrorem[[#This Row],[monto horas extrra]]*7%,0) -> 451838 | L3: =tablalibrorem[[#This Row],[sueldo base]]+tablalibrorem[[#This Row],[monto horas extrra]]-tablalibrorem[[#This Row],[descuento afp]] -> 414480 | M3: =VLOOKUP(tablalibrorem[[#This Row],[Cod AFP]],tablaafp[],2,FALSE) -> capital
A4: =remuneraciones!A5 -> 87.215.281-4 | B4: =remuneraciones!B5 -> Bustamante | C4: =remuneraciones!C5 -> Andrés | D4: =CONCATENATE(tablalibrorem[[#This Row],[Apellido]],", ",tablalibrorem[[#This Row],[Nombre]]) -> Bustamante, Andrés | E4: =remuneraciones!D5 -> 11 | F4: =remuneraciones!E5 -> 0 | G4: =remuneraciones!F5 -> 22 | H4: =VLOOKUP(tablalibrorem[[#This Row],[Cod Cargo]],tablacargo[],3) -> 450000 | I4: =ROUND(tablalibrorem[[#This Row],[sueldo base]]*0.00729165*tablalibrorem[[#This Row],[Horas Extras]],0) -> 0 | J4: =ROUND((VLOOKUP(tablalibrorem[[#This Row],[Cod AFP]],tablaafp[],3)*(tablalibrorem[[#This Row],[sueldo base]]+tablalibrorem[[#This Row],[monto horas extrra]])),0) -> 58365 | K4: =ROUND(tablalibrorem[[#This Row],[sueldo base]]+tablalibrorem[[#This Row],[monto horas extrra]]*7%,0) -> 450000 | L4: =tablalibrorem[[#This Row],[sueldo base]]+tablalibrorem[[#This Row],[monto horas extrra]]-tablalibrorem[[#This Row],[descuento afp]] -> 391635 | M4: =VLOOKUP(tablalibrorem[[#This Row],[Cod AFP]],tablaafp[],2,FALSE) -> cuprum
A5: =remuneraciones!A6 -> 63.486.692-5 | B5: =remuneraciones!B6 -> Chandia | C5: =remuneraciones!C6 -> Carlos | D5: =CONCATENATE(tablalibrorem[[#This Row],[Apellido]],", ",tablalibrorem[[#This Row],[Nombre]]) -> Chandia, Carlos | E5: =remuneraciones!D6 -> 12 | F5: =remuneraciones!E6 -> 0 | G5: =remuneraciones!F6 -> 26 | H5: =VLOOKUP(tablalibrorem[[#This Row],[Cod Cargo]],tablacargo[],3) -> 650000 | I5: =ROUND(tablalibrorem[[#This Row],[sueldo base]]*0.00729165*tablalibrorem[[#This Row],[Horas Extras]],0) -> 0 | J5: =ROUND((VLOOKUP(tablalibrorem[[#This Row],[Cod AFP]],tablaafp[],3)*(tablalibrorem[[#This Row],[sueldo base]]+tablalibrorem[[#This Row],[monto horas extrra]])),0) -> 79950 | K5: =ROUND(tablalibrorem[[#This Row],[sueldo base]]+tablalibrorem[[#This Row],[monto horas extrra]]*7%,0) -> 650000 | L5: =tablalibrorem[[#This Row],[sueldo base]]+tablalibrorem[[#This Row],[monto horas extrra]]-tablalibrorem[[#This Row],[descuento afp]] -> 570050 | M5: =VLOOKUP(tablalibrorem[[#This Row],[Cod AFP]],tablaafp[],2,FALSE) -> modelo
A6: =remuneraciones!A7 -> 22.134.706-K | B6: =remuneraciones!B7 -> Flores | C6: =remuneraciones!C7 -> Gloria | D6: =CONCATENATE(tablalibrorem[[#This Row],[Apellido]],", ",tablalibrorem[[#This Row],[Nombre]]) -> Flores, Gloria | E6: =remuneraciones!D7 -> 14 | F6: =remuneraciones!E7 -> 7 | G6: =remuneraciones!F7 -> 25 | H6: =VLOOKUP(tablalibrorem[[#This Row],[Cod Cargo]],tablacargo[],3) -> 540000 | I6: =ROUND(tablalibrorem[[#This Row],[sueldo base]]*0.00729165*tablalibrorem[[#This Row],[Horas Extras]],0) -> 27562 | J6: =ROUND((VLOOKUP(tablalibrorem[[#This Row],[Cod AFP]],tablaafp[],3)*(tablalibrorem[[#This Row],[sueldo base]]+tablalibrorem[[#This Row],[monto horas extrra]])),0) -> 73670 | K6: =ROUND(tablalibrorem[[#This Row],[sueldo base]]+tablalibrorem[[#This Row],[monto horas extrra]]*7%,0) -> 541929 | L6: =tablalibrorem[[#This Row],[sueldo base]]+tablalibrorem[[#This Row],[monto horas extrra]]-tablalibrorem[[#This Row],[descuento afp]] -> 493892 | M6: =VLOOKUP(tablalibrorem[[#This Row],[Cod AFP]],tablaafp[],2,FALSE) -> provida
A7: =remuneraciones!A8 -> 59.302.632-9 | B7: =remuneraciones!B8 -> Muñoz | C7: =remuneraciones!C8 -> Carolina | D7: =CONCATENATE(tablalibrorem[[#This Row],[Apellido]],", ",tablalibrorem[[#This Row],[Nombre]]) -> Muñoz, Carolina | E7: =remuneraciones!D8 -> 12 | F7: =remuneraciones!E8 -> 4 | G7: =remuneraciones!F8 -> 25 | H7: =VLOOKUP(tablalibrorem[[#This Row],[Cod Cargo]],tablacargo[],3) -> 650000 | I7: =ROUND(tablalibrorem[[#This Row],[sueldo base]]*0.00729165*tablalibrorem[[#This Row],[Horas Extras]],0) -> 18958 | J7: =ROUND((VLOOKUP(tablalibrorem[[#This Row],[Cod AFP]],tablaafp[],3)*(tablalibrorem[[#This Row],[sueldo base]]+tablalibrorem[[#This Row],[monto horas extrra]])),0) -> 86831 | K7: =ROUND(tablalibrorem[[#This Row],[sueldo base]]+tablalibrorem[[#This Row],[monto horas extrra]]*7%,0) -> 651327 | L7: =tablalibrorem[[#This Row],[sueldo base]]+tablalibrorem[[#This Row],[monto horas extrra]]-tablalibrorem[[#This Row],[descuento afp]] -> 582127 | M7: =VLOOKUP(tablalibrorem[[#This Row],[Cod AFP]],tablaafp[],2,FALSE) -> provida
A8: =remuneraciones!A9 -> 32.135.432-6 | B8: =remuneraciones!B9 -> Maldonado | C8: =remuneraciones!C9 -> Ana | D8: =CONCATENATE(tablalibrorem[[#This Row],[Apellido]],", ",tablalibrorem[[#This Row],[Nombre]]) -> Maldonado, Ana | E8: =remuneraciones!D9 -> 13 | F8: =remuneraciones!E9 -> 0 | G8: =remuneraciones!F9 -> 25 | H8: =VLOOKUP(tablalibrorem[[#This Row],[Cod Cargo]],tablacargo[],3) -> 760000 | I8: =ROUND(tablalibrorem[[#This Row],[sueldo base]]*0.00729165*tablalibrorem[[#This Row],[Horas Extras]],0) -> 0 | J8: =ROUND((VLOOKUP(tablalibrorem[[#This Row],[Cod AFP]],tablaafp[],3)*(tablalibrorem[[#This Row],[sueldo base]]+tablalibrorem[[#This Row],[monto horas extrra]])),0) -> 98648 | K8: =ROUND(tablalibrorem[[#This Row],[sueldo base]]+tablalibrorem[[#This Row],[monto horas extrra]]*7%,0) -> 760000 | L8: =tablalibrorem[[#This Row],[sueldo base]]+tablalibrorem[[#This Row],[monto horas extrra]]-tablalibrorem[[#This Row],[descuento afp]] -> 661352 | M8: =VLOOKUP(tablalibrorem[[#This Row],[Cod AFP]],tablaafp[],2,FALSE) -> provida
A9: =remuneraciones!A10 -> 11.865.971-7 | B9: =remuneraciones!B10 -> Gonzalez | C9: =remuneraciones!C10 -> Elsa | D9: =CONCATENATE(tablalibrorem[[#This Row],[Apellido]],", ",tablalibrorem[[#This Row],[Nombre]]) -> Gonzalez, Elsa | E9: =remuneraciones!D10 -> 14 | F9: =remuneraciones!E10 -> 0 | G9: =remuneraciones!F10 -> 25 | H9: =VLOOKUP(tablalibrorem[[#This Row],[Cod Cargo]],tablacargo[],3) -> 540000 | I9: =ROUND(tablalibrorem[[#This Row],[sueldo base]]*0.00729165*tablalibrorem[[#This Row],[Horas Extras]],0) -> 0 | J9: =ROUND((VLOOKUP(tablalibrorem[[#This Row],[Cod AFP]],tablaafp[],3)*(tablalibrorem[[#This Row],[sueldo base]]+tablalibrorem[[#This Row],[monto horas extrra]])),0) -> 70092 | K9: =ROUND(tablalibrorem[[#This Row],[sueldo base]]+tablalibrorem[[#This Row],[monto horas extrra]]*7%,0) -> 540000 | L9: =tablalibrorem[[#This Row],[sueldo base]]+tablalibrorem[[#This Row],[monto horas extrra]]-tablalibrorem[[#This Row],[descuento afp]] -> 469908 | M9: =VLOOKUP(tablalibrorem[[#This Row],[Cod AFP]],tablaafp[],2,FALSE) -> provida
A10: =remuneraciones!A11 -> 35.869.682-K | B10: =remuneraciones!B11 -> Sepulveda | C10: =remuneraciones!C11 -> Maria | D10: =CONCATENATE(tablalibrorem[[#This Row],[Apellido]],", ",tablalibrorem[[#This Row],[Nombre]]) -> Sepulveda, Maria | E10: =remuneraciones!D11 -> 13 | F10: =remuneraciones!E11 -> 14 | G10: =remuneraciones!F11 -> 23 | H10: =VLOOKUP(tablalibrorem[[#This Row],[Cod Cargo]],tablacargo[],3) -> 760000 | I10: =ROUND(tablalibrorem[[#This Row],[sueldo base]]*0.00729165*tablalibrorem[[#This Row],[Horas Extras]],0) -> 77583 | J10: =ROUND((VLOOKUP(tablalibrorem[[#This Row],[Cod AFP]],tablaafp[],3)*(tablalibrorem[[#This Row],[sueldo base]]+tablalibrorem[[#This Row],[monto horas extrra]])),0) -> 107211 | K10: =ROUND(tablalibrorem[[#This Row],[sueldo base]]+tablalibrorem[[#This Row],[monto horas extrra]]*7%,0) -> 765431 | L10: =tablalibrorem[[#This Row],[sueldo base]]+tablalibrorem[[#This Row],[monto horas extrra]]-tablalibrorem[[#This Row],[descuento afp]] -> 730372 | M10: =VLOOKUP(tablalibrorem[[#This Row],[Cod AFP]],tablaafp[],2,FALSE) -> habitat
A11: =remuneraciones!A12 -> 19.484.824-0 | B11: =remuneraciones!B12 -> Contreras | C11: =remuneraciones!C12 -> Mariela | D11: =CONCATENATE(tablalibrorem[[#This Row],[Apellido]],", ",tablalibrorem[[#This Row],[Nombre]]) -> Contreras, Mariela | E11: =remuneraciones!D12 -> 10 | F11: =remuneraciones!E12 -> 0 | G11: =remuneraciones!F12 -> 21 | H11: =VLOOKUP(tablalibrorem[[#This Row],[Cod Cargo]],tablacargo[],3) -> 952000 | I11: =ROUND(tablalibrorem[[#This Row],[sueldo base]]*0.00729165*tablalibrorem[[#This Row],[Horas Extras]],0) -> 0 | J11: =ROUND((VLOOKUP(tablalibrorem[[#This Row],[Cod AFP]],tablaafp[],3)*(tablalibrorem[[#This Row],[sueldo base]]+tablalibrorem[[#This Row],[monto horas extrra]])),0) -> 123474 | K11: =ROUND(tablalibrorem[[#This Row],[sueldo base]]+tablalibrorem[[#This Row],[monto horas extrra]]*7%,0) -> 952000 | L11: =tablalibrorem[[#This Row],[sueldo base]]+tablalibrorem[[#This Row],[monto horas extrra]]-tablalibrorem[[#This Row],[descuento afp]] -> 828526 | M11: =VLOOKUP(tablalibrorem[[#This Row],[Cod AFP]],tablaafp[],2,FALSE) -> capital
A12: =remuneraciones!A13 -> 27.310.553-9 | B12: =remuneraciones!B13 -> Cid | C12: =remuneraciones!C13 -> Ivonne | D12: =CONCATENATE(tablalibrorem[[#This Row],[Apellido]],", ",tablalibrorem[[#This Row],[Nombre]]) -> Cid, Ivonne | E12: =remuneraciones!D13 -> 11 | F12: =remuneraciones!E13 -> 23 | G12: =remuneraciones!F13 -> 25 | H12: =VLOOKUP(tablalibrorem[[#This Row],[Cod Cargo]],tablacargo[],3) -> 450000 | I12: =ROUND(tablalibrorem[[#This Row],[sueldo base]]*0.00729165*tablalibrorem[[#This Row],[Horas Extras]],0) -> 75469 | J12: =ROUND((VLOOKUP(tablalibrorem[[#This Row],[Cod AFP]],tablaafp[],3)*(tablalibrorem[[#This Row],[sueldo base]]+tablalibrorem[[#This Row],[monto horas extrra]])),0) -> 68206 | K12: =ROUND(tablalibrorem[[#This Row],[sueldo base]]+tablalibrorem[[#This Row],[monto horas extrra]]*7%,0) -> 455283 | L12: =tablalibrorem[[#This Row],[sueldo base]]+tablalibrorem[[#This Row],[monto horas extrra]]-tablalibrorem[[#This Row],[descuento afp]] -> 457263 | M12: =VLOOKUP(tablalibrorem[[#This Row],[Cod AFP]],tablaafp[],2,FALSE) -> provida
A13: =remuneraciones!A14 -> 65.804.832-3 | B13: =remuneraciones!B14 -> Bustamante | C13: =remuneraciones!C14 -> Marcela | D13: =CONCATENATE(tablalibrorem[[#This Row],[Apellido]],", ",tablalibrorem[[#This Row],[Nombre]]) -> Bustamante, Marcela | E13: =remuneraciones!D14 -> 11 | F13: =remuneraciones!E14 -> 12 | G13: =remuneraciones!F14 -> 23 | H13: =VLOOKUP(tablalibrorem[[#This Row],[Cod Cargo]],tablacargo[],3) -> 450000 | I13: =ROUND(tablalibrorem[[#This Row],[sueldo base]]*0.00729165*tablalibrorem[[#This Row],[Horas Extras]],0) -> 39375 | J13: =ROUND((VLOOKUP(tablalibrorem[[#This Row],[Cod AFP]],tablaafp[],3)*(tablalibrorem[[#This Row],[sueldo base]]+tablalibrorem[[#This Row],[monto horas extrra]])),0) -> 62640 | K13: =ROUND(tablalibrorem[[#This Row],[sueldo base]]+tablalibrorem[[#This Row],[monto horas extrra]]*7%,0) -> 452756 | L13: =tablalibrorem[[#This Row],[sueldo base]]+tablalibrorem[[#This Row],[monto horas extrra]]-tablalibrorem[[#This Row],[descuento afp]] -> 426735 | M13: =VLOOKUP(tablalibrorem[[#This Row],[Cod AFP]],tablaafp[],2,FALSE) -> habitat
... A19: =remuneraciones!A20 -> 10.710.383-5 | B19: =remuneraciones!B20 -> Sepulveda | C19: =remuneraciones!C20 -> Damian | D19: =CONCATENATE(tablalibrorem[[#This Row],[Apellido]],", ",tablalibrorem[[#This Row],[Nombre]]) -> Sepulveda, Damian | E19: =remuneraciones!D20 -> 14 | F19: =remuneraciones!E20 -> 12 | G19: =remuneraciones!F20 -> 25 | H19: =VLOOKUP(tablalibrorem[[#This Row],[Cod Cargo]],tablacargo[],3) -> 540000 | I19: =ROUND(tablalibrorem[[#This Row],[sueldo base]]*0.00729165*tablalibrorem[[#This Row],[Horas Extras]],0) -> 47250 | J19: =ROUND((VLOOKUP(tablalibrorem[[#This Row],[Cod AFP]],tablaafp[],3)*(tablalibrorem[[#This Row],[sueldo base]]+tablalibrorem[[#This Row],[monto horas extrra]])),0) -> 76225 | K19: =ROUND(tablalibrorem[[#This Row],[sueldo base]]+tablalibrorem[[#This Row],[monto horas extrra]]*7%,0) -> 543308 | L19: =tablalibrorem[[#This Row],[sueldo base]]+tablalibrorem[[#This Row],[monto horas extrra]]-tablalibrorem[[#This Row],[descuento afp]] -> 511025 | M19: =VLOOKUP(tablalibrorem[[#This Row],[Cod AFP]],tablaafp[],2,FALSE) -> provida

Sheet contratos
A1: rut | B1: Apellido | C1: Nombre | D1: Sueldo base | E1: Cargo | F1: AFP
A2: 19.275.846-0 | B2: Contreras | C2: Alex | D2: 952000 | E2: Gerente | F2: Capital
A3: 57.285.785-1 | B3: Cid | C3: Alvaro | D3: 450000 | E3: Vendedor | F3: Capital
A4: 87.215.281-4 | B4: Bustamante | C4: Andrés | D4: 450000 | E4: Vendedor | F4: Cuprum
A5: 63.486.692-5 | B5: Chandia | C5: Carlos | D5: 650000 | E5: Cajero | F5: Modelo
A6: 22.134.706-K | B6: Flores | C6: Gloria | D6: 540000 | E6: Auxiliar | F6: Provida
A7: 59.302.632-9 | B7: Muñoz | C7: Carolina | D7: 650000 | E7: Cajero | F7: Provida
A8: 32.135.432-6 | B8: Maldonado | C8: Ana | D8: 760000 | E8: Cocinero | F8: Provida
A9: 11.865.971-7 | B9: Gonzalez | C9: Elsa | D9: 540000 | E9: Auxiliar | F9: Provida
A10: 35.869.682-K | B10: Sepulveda | C10: Maria | D10: 760000 | E10: Cocinero | F10: Habitat
A11: 19.484.824-0 | B11: Contreras | C11: Mariela | D11: 952000 | E11: Gerente | F11: Capital
A12: 27.310.553-9 | B12: Cid | C12: Ivonne | D12: 450000 | E12: Vendedor | F12: Provida
A13: 65.804.832-3 | B13: Bustamante | C13: Marcela | D13: 450000 | E13: Vendedor | F13: Habitat
... A19: 10.710.383-5 | B19: Sepulveda | C19: Damian | D19: 540000 | E19: Auxiliar | F19: Provida
